BEGIN:VCALENDAR
VERSION:2.0
PRODID:-//株帳//Earnings Calendar JP//JP
CALSCALE:GREGORIAN
METHOD:PUBLISH
X-WR-CALNAME:株帳 決算カレンダー (日本株)
X-WR-TIMEZONE:Asia/Tokyo
X-WR-CALDESC:主要日本株の決算発表スケジュール
BEGIN:VEVENT
UID:earnings-26-1777100382@kabucho.com
DTSTAMP:20260425T143415Z
DTSTART;VALUE=DATE:20260427
DTEND;VALUE=DATE:20260428
SUMMARY:キーエンス 決算発表 (2026 通期)
DESCRIPTION:銘柄: キーエンス (6861.T)\n期: 2026 通期\nタイミング: 引け後\nステータス: 発表予定
URL:https://kabucho.com/calendar/jp
CATEGORIES:Earnings,JP
STATUS:CONFIRMED
TRANSP:TRANSPARENT
END:VEVENT
BEGIN:VEVENT
UID:earnings-25-1777100382@kabucho.com
DTSTAMP:20260425T143415Z
DTSTART;VALUE=DATE:20260427
DTEND;VALUE=DATE:20260428
SUMMARY:アドバンテスト 決算発表 (2026 通期)
DESCRIPTION:銘柄: アドバンテスト (6857.T)\n期: 2026 通期\nタイミング: 取引中\nステータス: 発表予定\n15:30 発表予定。AI 半導体テスト装置の需要見通しが焦点
URL:https://kabucho.com/calendar/jp
CATEGORIES:Earnings,JP
STATUS:CONFIRMED
TRANSP:TRANSPARENT
END:VEVENT
BEGIN:VEVENT
UID:earnings-34-1777100382@kabucho.com
DTSTAMP:20260425T143415Z
DTSTART;VALUE=DATE:20260507
DTEND;VALUE=DATE:20260508
SUMMARY:東京エレクトロン 決算発表 (2026 通期)
DESCRIPTION:銘柄: 東京エレクトロン (8035.T)\n期: 2026 通期\nタイミング: 引け後\nステータス: 発表予定\n半導体製造装置サイクル全体感の確認
URL:https://kabucho.com/calendar/jp
CATEGORIES:Earnings,JP
STATUS:CONFIRMED
TRANSP:TRANSPARENT
END:VEVENT
BEGIN:VEVENT
UID:earnings-36-1777100382@kabucho.com
DTSTAMP:20260425T143415Z
DTSTART;VALUE=DATE:20260508
DTEND;VALUE=DATE:20260509
SUMMARY:任天堂 決算発表 (2026 通期)
DESCRIPTION:銘柄: 任天堂 (7974.T)\n期: 2026 通期\nタイミング: 引け後\nステータス: 発表予定\nPS5 後継機・Switch 後継機の言及に注目
URL:https://kabucho.com/calendar/jp
CATEGORIES:Earnings,JP
STATUS:CONFIRMED
TRANSP:TRANSPARENT
END:VEVENT
BEGIN:VEVENT
UID:earnings-37-1777100382@kabucho.com
DTSTAMP:20260425T143415Z
DTSTART;VALUE=DATE:20260508
DTEND;VALUE=DATE:20260509
SUMMARY:伊藤忠商事 決算発表 (2026 通期)
DESCRIPTION:銘柄: 伊藤忠商事 (8001.T)\n期: 2026 通期\nタイミング: 引け後\nステータス: 発表予定\n通期計画 9000 億円達成可否、5 大商社決算ラッシュ
URL:https://kabucho.com/calendar/jp
CATEGORIES:Earnings,JP
STATUS:CONFIRMED
TRANSP:TRANSPARENT
END:VEVENT
BEGIN:VEVENT
UID:earnings-35-1777100382@kabucho.com
DTSTAMP:20260425T143415Z
DTSTART;VALUE=DATE:20260508
DTEND;VALUE=DATE:20260509
SUMMARY:トヨタ自動車 決算発表 (2026 通期)
DESCRIPTION:銘柄: トヨタ自動車 (7203.T)\n期: 2026 通期\nタイミング: 引け後\nステータス: 発表予定\n米関税影響と為替前提の方向感が焦点
URL:https://kabucho.com/calendar/jp
CATEGORIES:Earnings,JP
STATUS:CONFIRMED
TRANSP:TRANSPARENT
END:VEVENT
BEGIN:VEVENT
UID:earnings-38-1777100382@kabucho.com
DTSTAMP:20260425T143415Z
DTSTART;VALUE=DATE:20260510
DTEND;VALUE=DATE:20260511
SUMMARY:日本電信電話 決算発表 (2026 通期)
DESCRIPTION:銘柄: 日本電信電話 (9432.T)\n期: 2026 通期\nタイミング: 引け後\nステータス: 発表予定
URL:https://kabucho.com/calendar/jp
CATEGORIES:Earnings,JP
STATUS:CONFIRMED
TRANSP:TRANSPARENT
END:VEVENT
BEGIN:VEVENT
UID:earnings-39-1777100382@kabucho.com
DTSTAMP:20260425T143415Z
DTSTART;VALUE=DATE:20260512
DTEND;VALUE=DATE:20260513
SUMMARY:三菱商事 決算発表 (2026 通期)
DESCRIPTION:銘柄: 三菱商事 (8058.T)\n期: 2026 通期\nタイミング: 引け後\nステータス: 発表予定\n5 大商社決算ラッシュ
URL:https://kabucho.com/calendar/jp
CATEGORIES:Earnings,JP
STATUS:CONFIRMED
TRANSP:TRANSPARENT
END:VEVENT
BEGIN:VEVENT
UID:earnings-40-1777100382@kabucho.com
DTSTAMP:20260425T143415Z
DTSTART;VALUE=DATE:20260512
DTEND;VALUE=DATE:20260513
SUMMARY:三井物産 決算発表 (2026 通期)
DESCRIPTION:銘柄: 三井物産 (8031.T)\n期: 2026 通期\nタイミング: 引け後\nステータス: 発表予定
URL:https://kabucho.com/calendar/jp
CATEGORIES:Earnings,JP
STATUS:CONFIRMED
TRANSP:TRANSPARENT
END:VEVENT
BEGIN:VEVENT
UID:earnings-41-1777100382@kabucho.com
DTSTAMP:20260425T143415Z
DTSTART;VALUE=DATE:20260513
DTEND;VALUE=DATE:20260514
SUMMARY:リクルートホールディングス 決算発表 (2026 通期)
DESCRIPTION:銘柄: リクルートホールディングス (6098.T)\n期: 2026 通期\nタイミング: 引け後\nステータス: 発表予定
URL:https://kabucho.com/calendar/jp
CATEGORIES:Earnings,JP
STATUS:CONFIRMED
TRANSP:TRANSPARENT
END:VEVENT
BEGIN:VEVENT
UID:earnings-42-1777100382@kabucho.com
DTSTAMP:20260425T143415Z
DTSTART;VALUE=DATE:20260513
DTEND;VALUE=DATE:20260514
SUMMARY:ソフトバンクグループ 決算発表 (2026 通期)
DESCRIPTION:銘柄: ソフトバンクグループ (9984.T)\n期: 2026 通期\nタイミング: 引け後\nステータス: 発表予定
URL:https://kabucho.com/calendar/jp
CATEGORIES:Earnings,JP
STATUS:CONFIRMED
TRANSP:TRANSPARENT
END:VEVENT
BEGIN:VEVENT
UID:earnings-43-1777100382@kabucho.com
DTSTAMP:20260425T143415Z
DTSTART;VALUE=DATE:20260514
DTEND;VALUE=DATE:20260515
SUMMARY:ソニーグループ 決算発表 (2026 通期)
DESCRIPTION:銘柄: ソニーグループ (6758.T)\n期: 2026 通期\nタイミング: 引け後\nステータス: 発表予定\nソニーフィナンシャル スピンオフ後の継続事業ベース初決算
URL:https://kabucho.com/calendar/jp
CATEGORIES:Earnings,JP
STATUS:CONFIRMED
TRANSP:TRANSPARENT
END:VEVENT
BEGIN:VEVENT
UID:earnings-44-1777100382@kabucho.com
DTSTAMP:20260425T143415Z
DTSTART;VALUE=DATE:20260515
DTEND;VALUE=DATE:20260516
SUMMARY:三菱UFJフィナンシャル・グループ 決算発表 (2026 通期)
DESCRIPTION:銘柄: 三菱UFJフィナンシャル・グループ (8306.T)\n期: 2026 通期\nタイミング: 引け後\nステータス: 発表予定
URL:https://kabucho.com/calendar/jp
CATEGORIES:Earnings,JP
STATUS:CONFIRMED
TRANSP:TRANSPARENT
END:VEVENT
BEGIN:VEVENT
UID:earnings-45-1777100382@kabucho.com
DTSTAMP:20260425T143415Z
DTSTART;VALUE=DATE:20260515
DTEND;VALUE=DATE:20260516
SUMMARY:第一三共 決算発表 (2026 通期（延期後想定）)
DESCRIPTION:銘柄: 第一三共 (4568.T)\n期: 2026 通期（延期後想定）\nタイミング: 引け後\nステータス: 発表予定\n4/24 の本決算延期を受けた仮日程。正式日程は要確認
URL:https://kabucho.com/calendar/jp
CATEGORIES:Earnings,JP
STATUS:CONFIRMED
TRANSP:TRANSPARENT
END:VEVENT
END:VCALENDAR
