BEGIN:VCALENDAR
VERSION:2.0
PRODID:-//株帳//Earnings Calendar US//JP
CALSCALE:GREGORIAN
METHOD:PUBLISH
X-WR-CALNAME:株帳 決算カレンダー (米国株)
X-WR-TIMEZONE:Asia/Tokyo
X-WR-CALDESC:主要米国株の決算発表スケジュール
BEGIN:VEVENT
UID:earnings-27-1777100382@kabucho.com
DTSTAMP:20260425T143415Z
DTSTART;VALUE=DATE:20260429
DTEND;VALUE=DATE:20260430
SUMMARY:マイクロソフト 決算発表 (2026 Q3)
DESCRIPTION:銘柄: マイクロソフト (MSFT)\n期: 2026 Q3\nタイミング: 引け後\nステータス: 発表予定\nAzure / AI / Copilot の成長率が焦点
URL:https://kabucho.com/calendar/us
CATEGORIES:Earnings,US
STATUS:CONFIRMED
TRANSP:TRANSPARENT
END:VEVENT
BEGIN:VEVENT
UID:earnings-28-1777100382@kabucho.com
DTSTAMP:20260425T143415Z
DTSTART;VALUE=DATE:20260429
DTEND;VALUE=DATE:20260430
SUMMARY:アルファベット (Google) 決算発表 (2026 Q1)
DESCRIPTION:銘柄: アルファベット (Google) (GOOGL)\n期: 2026 Q1\nタイミング: 引け後\nステータス: 発表予定\nCloud / 広告 / AI 投資の進捗
URL:https://kabucho.com/calendar/us
CATEGORIES:Earnings,US
STATUS:CONFIRMED
TRANSP:TRANSPARENT
END:VEVENT
BEGIN:VEVENT
UID:earnings-29-1777100382@kabucho.com
DTSTAMP:20260425T143415Z
DTSTART;VALUE=DATE:20260429
DTEND;VALUE=DATE:20260430
SUMMARY:メタ・プラットフォームズ 決算発表 (2026 Q1)
DESCRIPTION:銘柄: メタ・プラットフォームズ (META)\n期: 2026 Q1\nタイミング: 引け後\nステータス: 発表予定\n広告売上 / Reality Labs の損失動向
URL:https://kabucho.com/calendar/us
CATEGORIES:Earnings,US
STATUS:CONFIRMED
TRANSP:TRANSPARENT
END:VEVENT
BEGIN:VEVENT
UID:earnings-30-1777100382@kabucho.com
DTSTAMP:20260425T143415Z
DTSTART;VALUE=DATE:20260429
DTEND;VALUE=DATE:20260430
SUMMARY:アマゾン 決算発表 (2026 Q1)
DESCRIPTION:銘柄: アマゾン (AMZN)\n期: 2026 Q1\nタイミング: 引け後\nステータス: 発表予定\nAWS 成長率と粗利率が焦点
URL:https://kabucho.com/calendar/us
CATEGORIES:Earnings,US
STATUS:CONFIRMED
TRANSP:TRANSPARENT
END:VEVENT
BEGIN:VEVENT
UID:earnings-31-1777100382@kabucho.com
DTSTAMP:20260425T143415Z
DTSTART;VALUE=DATE:20260430
DTEND;VALUE=DATE:20260501
SUMMARY:アップル 決算発表 (2026 Q2)
DESCRIPTION:銘柄: アップル (AAPL)\n期: 2026 Q2\nタイミング: 引け後\nステータス: 発表予定\niPhone / サービス / 中国売上の動向
URL:https://kabucho.com/calendar/us
CATEGORIES:Earnings,US
STATUS:CONFIRMED
TRANSP:TRANSPARENT
END:VEVENT
BEGIN:VEVENT
UID:earnings-32-1777100382@kabucho.com
DTSTAMP:20260425T143415Z
DTSTART;VALUE=DATE:20260505
DTEND;VALUE=DATE:20260506
SUMMARY:AMD 決算発表 (2026 Q1)
DESCRIPTION:銘柄: AMD (AMD)\n期: 2026 Q1\nタイミング: 引け後\nステータス: 発表予定\nプレ決算で +30% 上昇済み、ハードルは高い
URL:https://kabucho.com/calendar/us
CATEGORIES:Earnings,US
STATUS:CONFIRMED
TRANSP:TRANSPARENT
END:VEVENT
BEGIN:VEVENT
UID:earnings-33-1777100382@kabucho.com
DTSTAMP:20260425T143415Z
DTSTART;VALUE=DATE:20260506
DTEND;VALUE=DATE:20260507
SUMMARY:ビザ 決算発表 (2026 Q2)
DESCRIPTION:銘柄: ビザ (V)\n期: 2026 Q2\nタイミング: 引け後\nステータス: 発表予定
URL:https://kabucho.com/calendar/us
CATEGORIES:Earnings,US
STATUS:CONFIRMED
TRANSP:TRANSPARENT
END:VEVENT
BEGIN:VEVENT
UID:earnings-46-1777100382@kabucho.com
DTSTAMP:20260425T143415Z
DTSTART;VALUE=DATE:20260520
DTEND;VALUE=DATE:20260521
SUMMARY:エヌビディア 決算発表 (2026 Q1)
DESCRIPTION:銘柄: エヌビディア (NVDA)\n期: 2026 Q1\nタイミング: 引け後\nステータス: 発表予定\nQ1 FY27 ガイダンス $78B ±2%
URL:https://kabucho.com/calendar/us
CATEGORIES:Earnings,US
STATUS:CONFIRMED
TRANSP:TRANSPARENT
END:VEVENT
END:VCALENDAR
